BEGIN:VCALENDAR
VERSION:2.0
PRODID:-//Rohrbergnest - ECPv6.15.20//NONSGML v1.0//EN
CALSCALE:GREGORIAN
METHOD:PUBLISH
X-WR-CALNAME:Rohrbergnest
X-ORIGINAL-URL:https://rohrbergnest.de
X-WR-CALDESC:Veranstaltungen für Rohrbergnest
REFRESH-INTERVAL;VALUE=DURATION:PT1H
X-Robots-Tag:noindex
X-PUBLISHED-TTL:PT1H
BEGIN:VTIMEZONE
TZID:Europe/Amsterdam
BEGIN:DAYLIGHT
TZOFFSETFROM:+0100
TZOFFSETTO:+0200
TZNAME:CEST
DTSTART:20220327T010000
END:DAYLIGHT
BEGIN:STANDARD
TZOFFSETFROM:+0200
TZOFFSETTO:+0100
TZNAME:CET
DTSTART:20221030T010000
END:STANDARD
BEGIN:DAYLIGHT
TZOFFSETFROM:+0100
TZOFFSETTO:+0200
TZNAME:CEST
DTSTART:20230326T010000
END:DAYLIGHT
BEGIN:STANDARD
TZOFFSETFROM:+0200
TZOFFSETTO:+0100
TZNAME:CET
DTSTART:20231029T010000
END:STANDARD
BEGIN:DAYLIGHT
TZOFFSETFROM:+0100
TZOFFSETTO:+0200
TZNAME:CEST
DTSTART:20240331T010000
END:DAYLIGHT
BEGIN:STANDARD
TZOFFSETFROM:+0200
TZOFFSETTO:+0100
TZNAME:CET
DTSTART:20241027T010000
END:STANDARD
END:VTIMEZONE
BEGIN:VEVENT
DTSTART;VALUE=DATE:20230429
DTEND;VALUE=DATE:20230502
DTSTAMP:20260420T051538
CREATED:20221124T102028Z
LAST-MODIFIED:20221124T131658Z
UID:413-1682726400-1682985599@rohrbergnest.de
SUMMARY:Inge 23/4
DESCRIPTION:
URL:https://rohrbergnest.de/event/inge-23-3/
END:VEVENT
BEGIN:VEVENT
DTSTART;VALUE=DATE:20230504
DTEND;VALUE=DATE:20230508
DTSTAMP:20260420T051538
CREATED:20230417T050943Z
LAST-MODIFIED:20230417T050943Z
UID:460-1683158400-1683503999@rohrbergnest.de
SUMMARY:Georg S. 23/2
DESCRIPTION:
URL:https://rohrbergnest.de/event/georg-s-23-2/
END:VEVENT
BEGIN:VEVENT
DTSTART;VALUE=DATE:20230526
DTEND;VALUE=DATE:20230530
DTSTAMP:20260420T051538
CREATED:20230511T070744Z
LAST-MODIFIED:20230511T070744Z
UID:471-1685059200-1685404799@rohrbergnest.de
SUMMARY:Inge 23/5
DESCRIPTION:
URL:https://rohrbergnest.de/event/inge-23-5/
END:VEVENT
END:VCALENDAR