BEGIN:VCALENDAR
VERSION:2.0
PRODID:-//Rohrbergnest - ECPv6.15.20//NONSGML v1.0//EN
CALSCALE:GREGORIAN
METHOD:PUBLISH
X-ORIGINAL-URL:https://rohrbergnest.de
X-WR-CALDESC:Veranstaltungen für Rohrbergnest
REFRESH-INTERVAL;VALUE=DURATION:PT1H
X-Robots-Tag:noindex
X-PUBLISHED-TTL:PT1H
BEGIN:VTIMEZONE
TZID:Europe/Helsinki
BEGIN:DAYLIGHT
TZOFFSETFROM:+0200
TZOFFSETTO:+0300
TZNAME:EEST
DTSTART:20210328T010000
END:DAYLIGHT
BEGIN:STANDARD
TZOFFSETFROM:+0300
TZOFFSETTO:+0200
TZNAME:EET
DTSTART:20211031T010000
END:STANDARD
BEGIN:DAYLIGHT
TZOFFSETFROM:+0200
TZOFFSETTO:+0300
TZNAME:EEST
DTSTART:20220327T010000
END:DAYLIGHT
BEGIN:STANDARD
TZOFFSETFROM:+0300
TZOFFSETTO:+0200
TZNAME:EET
DTSTART:20221030T010000
END:STANDARD
BEGIN:DAYLIGHT
TZOFFSETFROM:+0200
TZOFFSETTO:+0300
TZNAME:EEST
DTSTART:20230326T010000
END:DAYLIGHT
BEGIN:STANDARD
TZOFFSETFROM:+0300
TZOFFSETTO:+0200
TZNAME:EET
DTSTART:20231029T010000
END:STANDARD
END:VTIMEZONE
BEGIN:VEVENT
DTSTART;VALUE=DATE:20221029
DTEND;VALUE=DATE:20221103
DTSTAMP:20260424T130854
CREATED:20221029T061205Z
LAST-MODIFIED:20221029T061205Z
UID:351-1667001600-1667433599@rohrbergnest.de
SUMMARY:Gerhard (7/22)
DESCRIPTION:
URL:https://rohrbergnest.de/event/gerhard-7-22/
END:VEVENT
BEGIN:VEVENT
DTSTART;VALUE=DATE:20221111
DTEND;VALUE=DATE:20221114
DTSTAMP:20260424T130854
CREATED:20221107T181441Z
LAST-MODIFIED:20221107T181441Z
UID:364-1668124800-1668383999@rohrbergnest.de
SUMMARY:Inge (22/6)
DESCRIPTION:
URL:https://rohrbergnest.de/event/inge-22-6/
END:VEVENT
BEGIN:VEVENT
DTSTART;VALUE=DATE:20221125
DTEND;VALUE=DATE:20221128
DTSTAMP:20260424T130854
CREATED:20221104T090044Z
LAST-MODIFIED:20221104T090044Z
UID:361-1669334400-1669593599@rohrbergnest.de
SUMMARY:Steffi / Susi (4/22)
DESCRIPTION:
URL:https://rohrbergnest.de/event/steffi-susi-4-22/
END:VEVENT
END:VCALENDAR